BEGIN:VCALENDAR
VERSION:2.0
PRODID:-//eventon.com NONSGML v1.0//EN
BEGIN:VEVENT
UID:69eb8dbc28d99
DTSTAMP:20260424T233524
DTSTART:20210325T010000Z
DTEND:20210325T013000Z
LOCATION:
SUMMARY:FREE ONLINE SEMINAR: 6 Bad Habits That Public Speakers Get Into
DESCRIPTION: We all know how important our body language is when we communicate and do public speaking. There are those speakers who have great non verbals and there are those who have distracting gestures. In this webinar you will learn 6 bad habits to avoid when public speaking.  After all\,  no[..]
END:VEVENT
END:VCALENDAR