BEGIN:VCALENDAR
VERSION:2.0
PRODID:-//eventon.com NONSGML v1.0//EN
BEGIN:VEVENT
UID:69eb8ccac5e0d
DTSTAMP:20260424T233122
DTSTART:20210309T010000Z
DTEND:20210309T013000Z
LOCATION:
SUMMARY:FREE ONLINE SEMINAR: 5 Failsafe Steps To Writing a Great Speech
DESCRIPTION: As a public speaking and presentation skills trainer and coach I am often asked\,  what is the best way to prepare a speech from scratch. They ask: Where do you start? How do you make it interesting? What is the best process to follow? How do you structure the speech?[..]
END:VEVENT
END:VCALENDAR