BEGIN:VCALENDAR
VERSION:2.0
PRODID:-//eventon.com NONSGML v1.0//EN
BEGIN:VEVENT
UID:69eb8ce4bc6ae
DTSTAMP:20260424T233148
DTSTART:20201117T013000Z
DTEND:20201117T083000Z
LOCATION:Amberley Boardroom\,  Liberty Flexible Work Spaces 
SUMMARY:PERTH WORKSHOP: Winning Presentation Skills by Peter Dhu
DESCRIPTION: PERTH WORKSHOP: Winning Presentation Skills by Peter Dhu
END:VEVENT
END:VCALENDAR