BEGIN:VCALENDAR
VERSION:2.0
PRODID:-//eventon.com NONSGML v1.0//EN
BEGIN:VEVENT
UID:69eb749ca772c
DTSTAMP:20260424T214812
DTSTART:20200819T013000Z
DTEND:20200819T043000Z
LOCATION:ONLINE Workshop 
SUMMARY:ONLINE WORKSHOP: How to Handle Difficult Customers by Violet Dhu
DESCRIPTION: ONLINE WORKSHOP: How to Handle Difficult Customers by Violet Dhu
END:VEVENT
END:VCALENDAR