BEGIN:VCALENDAR
VERSION:2.0
PRODID:-//eventon.com NONSGML v1.0//EN
BEGIN:VEVENT
UID:69eb79311750d
DTSTAMP:20260424T220745
DTSTART:20200617T010000Z
DTEND:20200617T030000Z
LOCATION:ONLINE Workshop 
SUMMARY:ONLINE WORKSHOP: Overcoming Self-doubt And Developing Self-confidence by Violet Dhu
DESCRIPTION: ONLINE WORKSHOP: Overcoming Self-doubt And Developing Self-confidence by Violet Dhu
END:VEVENT
END:VCALENDAR