BEGIN:VCALENDAR
VERSION:2.0
PRODID:-//eventon.com NONSGML v1.0//EN
BEGIN:VEVENT
UID:69eb8e5d4b9e6
DTSTAMP:20260424T233805
DTSTART:20200630T013000Z
DTEND:20200630T083000Z
LOCATION:Amberley Boardroom\,  Liberty Flexible Work Spaces 
SUMMARY:PERTH WORKSHOP: Winning Presentation Skills by Peter Dhu
DESCRIPTION: PERTH WORKSHOP: Winning Presentation Skills by Peter Dhu
END:VEVENT
END:VCALENDAR