BEGIN:VCALENDAR
VERSION:2.0
PRODID:-//eventon.com NONSGML v1.0//EN
BEGIN:VEVENT
UID:69eb791a5a24c
DTSTAMP:20260424T220722
DTSTART:20200513T010000Z
DTEND:20200513T030000Z
LOCATION:ONLINE Workshop 
SUMMARY:ONLINE WORKSHOP: Leading Through Uncertainty by Violet Dhu
DESCRIPTION: ONLINE WORKSHOP: Leading Through Uncertainty by Violet Dhu
END:VEVENT
END:VCALENDAR